Workbook
Name T胃がん: #REF!
Name T子宮がん: #REF!
Name T大腸がん: #REF!
Name T肺がん: #REF!

Sheet 胃がん (郵送申請用)
A1: 様式第1-1号 | E1: （郵送申請用）
A2: 胃がん検診精密検査実施医療機関登録申請書(新規・更新)
A3: 以下について、記載してください。なお、＊はいずれかを〇で囲んでください。
A4: 登録医療機関 | B4: 名称
B5: 所在地 | C5: 〒
B7: 電話番号
A8: 精密検査責任者 | B8: 診療科
B9: ふりがな
B10: 医師名
B11: 勤務体制 ＊ | C11: 常勤 ・ 非常勤
A12: 申請者 ※申請時に連絡が取れる方について記載をお願いします。 | B12: 氏名
B13: メールアドレス
A14: 集団検診機関（長崎県健康事業団等）から精検紹介があった 場合、かかりつけ医を介さずに対応できますか ＊ | D14: 対応可 ・ 対応不可
A15: 【登録要件の確認】※「胃がん検診精密検査実施医療機関登録の要件」をご確認いただきご記入ください。
A16: １．設備等 | B16: （１）上部消化管内視鏡検査（組織診含む）について ＊ | E16: 実施できる ・ 実施できない
B17: （２）組織診検査について ＊ （実施可能な他の医療・検査機関への委託も含む） | E17: 実施できる ・ 実施できない
A19: ２．人的配置 | B19: （１）精密検査従事医師について ※「氏名」について、常勤・非常勤を問わず、従事する全ての医師について記載してください。 ※「資格等」について、日本消化器内視鏡学会の専門医、日本消化器がん検診学会の認定医もしくは総合認定医、 消化器病専門医等の資格を有していれば記載してください （複数ある場合はいずれか１つで可。）
B20: 氏名 | C20: 上部消化菅内視鏡検査 | E20: 資格等
C21: 年間検査数 過去1年間：R7.1～12月実績 | D21: 累計検査数 過去5年間：R2.1～R7.１２月実績
B26: （２）確定診断に至るまでの責任ある体制が構築されている ＊ | E26: はい ・ いいえ
A30: ３．研修会、講習会、関連学会への参加 | B30: （１）参加状況について ※２．人的配置に記載した医師全員の参加状況について記載してください。 ※複数の該当する研修会・セミナーを受講している場合は、受講したもののうち、いずれか1つを記載してください。
B31: 氏名 | C31: 年月日 | D31: 主催学会等 | E31: 研修会等名称
A37: ※日本消化器内視鏡学会、日本消化器がん検診学会、日本消化器病学会、日本消化器外科学会が主催の研修会等に参加した場合は、受講証、参加証等（コピー可）を提出すること。
A38: 4.その他 | B38: （１）精密検査結果判明後、紹介状の所定記載事項に結果を記入し、速やかに返送できる ＊ | E38: はい ・ いいえ
B39: （２）発見胃がんに関して、県胃がん委員会等が実施する事後調査、確定調査等に積極的に協力できる ＊ | E39: はい ・ いいえ
B40: （３）胃がん委員会より要請があった場合は、精検症例を県胃がん委員会等に提出して討議できる ＊ | E40: はい ・ いいえ
A42: 長崎県がん検診精密検査実施医療機関登録制度実施要領に基づく胃がん精密検査医療機関の登録要件をすべて満たしていますので、上記のとおり申請いたします。
C43: 令和 年 月 日
A46: 長崎県医療政策課長 様
C48: 医療機関
C49: 代表者名

Sheet 胃がん（電子申請用 入力用に反映される）
A1: 様式第1-1号 | E1: （電子申請用）
A2: 胃がん検診精密検査実施医療機関登録申請書(新規・更新)
A3: 以下について、記載してください。なお、＊はプルダウンで選択してください。
A4: 登録医療機関 | B4: 名称
B5: 所在地 | C5: 〒
B7: 電話番号
A8: 精密検査責任者 | B8: 診療科
B9: ふりがな
B10: 医師名
B11: 勤務体制 ＊
A12: 申請者 ※申請時に連絡が取れる方について記載をお願いします。 | B12: 氏名
B13: メールアドレス
A14: 集団検診機関（長崎県健康事業団等）から精検紹介があった 場合かかりつけ医を介さずに対応できますか ＊
A15: 【登録要件の確認】※「胃がん検診精密検査実施医療機関登録の要件」をご確認いただきご記入ください。
A16: １．設備等 | B16: （１）上部消化管内視鏡検査（組織診含む）について ＊
B17: （２）組織診検査について ＊ （実施可能な他の医療・検査機関への委託も含む）
A19: ２．人的配置 | B19: （１）精密検査従事医師について ※「氏名」について、常勤・非常勤を問わず、従事する全ての医師について記載してください。 ※「資格等」について、日本消化器内視鏡学会の専門医、日本消化器がん検診学会の認定医もしくは総合認定医、消化器病 専門医等の資格を有していれば記載してください （複数ある場合はいずれか１つで可。）
B20: 氏名 | C20: 上部消化菅内視鏡検査 | E20: 資格等
C21: 年間検査数 過去1年間：R7.1～12月実績 | D21: 累計検査数 過去5年間：R2.1～R7.１２月実績
B26: （２）確定診断に至るまでの責任ある体制が構築されている ＊
A30: ３．研修会、講習会、関連学会への参加 | B30: （１）参加状況について ※ ２．人的配置に記載した医師全員の参加状況について記載してください。 ※ 複数の該当する研修会・セミナーを受講している場合は、受講したもののうち、いずれか1つを記載してください。
B31: 氏名 | C31: 年月日 | D31: 主催学会等 | E31: 研修会等名称
A37: ※日本消化器内視鏡学会、日本消化器がん検診学会、日本消化器病学会、日本消化器外科学会が主催の研修会等に参加した場合は、受講証、参加証等（コピー可）を提出すること。
A38: 4.その他 | B38: （１）精密検査結果判明後、紹介状の所定記載事項に結果を記入し、速やかに返送できる ＊
B39: （２）発見胃がんに関して、県胃がん委員会等が実施する事後調査、確定調査等に積極的に協力できる ＊
B40: （３）胃がん委員会より要請があった場合は、精検症例を県胃がん委員会等に提出して討議できる ＊
A42: 長崎県がん検診精密検査実施医療機関登録制度実施要領に基づく胃がん精密検査医療機関の登録要件をすべて満たしていますので、上記のとおり申請いたします。
C43: 令和 年 月 日
A46: 長崎県医療政策課長 様
C48: 医療機関
C49: 代表者名

Sheet 確認用
A1: 胃がん検診精密検査医療機関 一覧
A2: 医療機関情報 | K2: 登録要件充足状況
A3: 医療機関名 | B3: 住所 | D3: 電話番号 | E3: 診療科 | F3: 精密検査責任者 | G3: （ふりがな） | H3: 勤務体制 | I3: 申請者 | J3: メールアドレス | K3: 1．（1） | L3: 1．（2） | M3: 2．氏名 | N3: 年間検査数 | O3: 累計検査数 | P3: 資格等 | Q3: （２）体制の構築 | R3: ３．氏名 | S3: 年月日 | T3: 主催学会 | U3: 研修会名 | V3: 4．（１） | W3: 4．（2） | X3: 4．（3）
A4: ='胃がん（電子申請用 入力用に反映される）'!C4 -> 0 | B4: ='胃がん（電子申請用 入力用に反映される）'!C5 -> 〒 | C4: ='胃がん（電子申請用 入力用に反映される）'!C6 -> 0 | D4: ='胃がん（電子申請用 入力用に反映される）'!C7 -> 0 | E4: ='胃がん（電子申請用 入力用に反映される）'!C8 -> 0 | F4: ='胃がん（電子申請用 入力用に反映される）'!C10 -> 0 | G4: ='胃がん（電子申請用 入力用に反映される）'!C9 -> 0 | H4: ='胃がん（電子申請用 入力用に反映される）'!C11 -> 0 | I4: ='胃がん（電子申請用 入力用に反映される）'!C12 -> 0 | J4: ='胃がん（電子申請用 入力用に反映される）'!C13 -> 0 | K4: ='胃がん（電子申請用 入力用に反映される）'!E16 -> 0 | L4: ='胃がん（電子申請用 入力用に反映される）'!E17 -> 0 | M4: ='胃がん（電子申請用 入力用に反映される）'!B22 -> 0 | N4: ='胃がん（電子申請用 入力用に反映される）'!C22 -> 0 | O4: ='胃がん（電子申請用 入力用に反映される）'!D22 -> 0 | P4: ='胃がん（電子申請用 入力用に反映される）'!E22 -> 0 | Q4: ='胃がん（電子申請用 入力用に反映される）'!E26 -> 0 | R4: ='胃がん（電子申請用 入力用に反映される）'!B32 -> 0 | S4: ='胃がん（電子申請用 入力用に反映される）'!C32 -> 0 | T4: ='胃がん（電子申請用 入力用に反映される）'!D32 -> 0 | U4: ='胃がん（電子申請用 入力用に反映される）'!E32 -> 0 | V4: ='胃がん（電子申請用 入力用に反映される）'!E38 -> 0 | W4: ='胃がん（電子申請用 入力用に反映される）'!E39 -> 0 | X4: ='胃がん（電子申請用 入力用に反映される）'!E40 -> 0
